Workbook

Sheet ЗаглСтр
A2: Н А Ц И О Н А Л Е Н О С И Г У Р И Т Е Л Е Н И Н С Т И Т У Т
A11: С Т А Т И С Т И Ч Е С К И Б Ю Л Е Т И Н
A15: ЗА РЕГИСТРИРАНИТЕ БЕЗРАБОТНИ ЛИЦА
A16: С ПРАВО НА ПАРИЧНО ОБЕЗЩЕТЕНИЕ
A17: ПРЕЗ МЕСЕЦ ЮНИ 2025 г.
A38: СОФИЯ - 2025 г.

Sheet съдържание
A1: Съдържание
A3: Таблица № | B3: Наименование на таблица
B4: Нормативната уредба относно паричните обезщетения за безработица
A5: 1 | B5: Брой и структура на осигурените лица за фонд "Безработица" и регистрираните безработни лица през месец юни 2025 г.
A6: 2 | B6: Регистрирани безработни лица с право на ПОБ, разпределени по пол и ТП на НОИ, през месец юни 2025 г.
A7: 3 | B7: Регистрирани безработни лица с право на обезщетение, разпределени по групи възраст и ТП на НОИ, през месец юни 2025 г.
A8: 4 | B8: Регистрирани безработни лица с право на обезщетение, разпределени по групи възраст и средни размери на паричните обезщетения, през месец юни 2025 г.
A9: 5 | B9: Регистрирани безработни лица с право на обезщетение, разпределени по дневен размер на ПОБ и по пол, през месец юни 2025 г.
A10: 6 | B10: Средни размери на паричните обезщетения за безработица, разпределени по ТП на НОИ и пол, през месец юни 2025 г.
A11: 7 | B11: Брой безработни лица и средни размери на паричните обезщетения за безработица по европейски регламенти, разпределени по ТП на НОИ и пол, през месец юни 2025 г.
A12: 8 | B12: Брой регистрирани безработни лица с право на ПОБ, разпределени по продължителност на осигурителния им стаж и ТП на НОИ, през месец юни 2025 г.
A13: 9 | B13: Новорегистрирани безработни лица с право на обезщетение, разпределени по пол и ТП на НОИ, през месец юни 2025 г.
A14: 10 | B14: Брой регистрирани безработни лица с право на ПОБ с край на обезщетението през месец юни 2025 г., разпределени по пол и ТП на НОИ.

Sheet промени
A1: към съдържание
A3: Настоящият бюлетин включва статистическа информация за регистрираните безработни лица с право на парично обезщетение за безработица по реда на Раздел III и Раздел IV от глава четвърта „Обезщетения“ на Кодекса за социално осигуряване (КСО) и Наредбата за отпускане и изплащане на паричните обезщетения за безработица (НОИПОБ).
A4: Информацията в бюлетина е месечна и годишна. Месечната информация се отнася за безработните лица, които през съответния месец са имали право на парично обезщетение за безработица, като от съвкупността са изключени тези, чието обезщетение е с изтекъл срок или е било прекратено към момента на подготовка на бюлетина. Годишната информация се отнася за средномесечния брой регистрирани безработни лица с право на обезщетение.
A5: Информацията е представена по различни признаци, сред които област на страната, пол, възраст, степен на образование, размер на паричното обезщетение, продължителност на осигурителния стаж. Представени са данни за новорегистрираните лица с право на обезщетение и лицата, срокът на чиито обезщетения е изтекъл. От обхвата на бюлетина са изключени лицата с право на обезщетения по реда на Закона за отбраната и въоръжените сили на Република България.
A6: Основният източник на данните, използвани при подготовката на бюлетина, е информационната система на Националния осигурителен институт за изплащаните обезщетения, поддържана на основание чл. 33, ал. 5, т. 10 от Кодекса за социално осигуряване. Данните в отделните бюлетини отразяват състоянието на информационната система към момента на подготовката им, като, при настъпване на евентуални промени в информационната система, бюлетините не се актуализират. Източник на информацията за броя на регистрираните безработни лица е Агенцията по заетостта.
A7: В бюлетина е представена информация за лицата с право на парично обезщетение за безработица през съответния месец (респективно – средномесечно за годината), като са изключени лицата, чиито обезщетения са с изтекъл срок или са прекратени. От такава гледна точка, не е задължително да има пълно съответствие между съвкупността на лицата с право на парично обезщетение за безработица през месеца и съвкупността на лицата, на които са изплатени парични обезщетения през същия месец. Възможни са разлики например поради обстоятелството, че паричните обезщетения за безработица се изплащат ежемесечно през месеца, следващ този, за който се дължат (чл. 54в от Кодекса за социално осигуряване).
A8: През 2025 г., право на парично обезщетение за безработица имат лицата, за които са внесени или дължими осигурителни вноски във фонд „Безработица“ най-малко 12 месеца през последните 18 месеца преди прекратяване на осигуряването и които: (1) са регистрирани като безработни в Агенцията по заетостта; (2) не са придобили право на пенсия за осигурителен стаж и възраст в Република България или пенсия за старост в друга държава или не получават пенсия за осигурителен стаж и възраст в намален размер по чл. 68а или професионална пенсия по чл. 168; (3) не упражняват трудова дейност, за която подлежат на задължително осигуряване по КСО или законодателството на друга държава, с изключение на лицата по чл. 114а, ал. 1 от Кодекса на труда.
A9: Дневното парично обезщетение за безработица е в размер 60 на сто от среднодневното възнаграждение или среднодневния осигурителен доход, върху който са внесени или дължими вноски за фонд “Безработица” за последните 24 календарни месеца, предхождащи месеца на прекратяване на осигуряването, и не може да бъде по-малко от минималния и по-голямо от максималния дневен размер на обезщетението за безработица, определен със Закона за бюджета на държавното обществено осигуряване за всяка календарна година. Минималният дневен размер на обезщетението за безработица за 2025 г. е 18,00 лв. Максималният дневен размер на обезщетението за безработица за 2025 г. е 107,14 лв.
A10: Паричните обезщетения се изплащат за период, зависещ от продължителността на осигурителния стаж. За осигурителен стаж на лицата се зачита времето след 31 декември 2001 г., през което те са осигурени за безработица. Срокът за изплащане се определя както следва:
A12: Безработните лица, чиито правоотношения са прекратени по тяхно желание или с тяхно съгласие, или поради виновното им поведение, получават минималния дневен размер на обезщетението за безработица съгласно закона за бюджета на държавното обществено осигуряване за срок 4 месеца (чл. 54б, ал. 3 от КСО). Минималният размер за срок от 4 месеца получават и тези от безработните лица, придобили право на обезщетение преди изтичане на три години от предходно упражняване на правото на обезщетение (чл. 54б, ал. 4 от КСО).
A13: Допълнителна информация относно реда за отпускане, изплащане, спиране, възобновяване и прекратяване изплащането на паричните обезщетения за безработица, за определяне на техния размер и сроковете на изплащането им, е достъпна на интернет страницата на Националния осигурителен институт:
A14: https://nssi.bg/fizicheski-lica/po-bg-zakonodatelstvo/pri-bezrabotitsa/
A16: към съдържание

Sheet резюме
A1: към съдържание
A3: 1. Брой и структура на осигурените лица за фонд "Безработица" и регистрираните безработни лица през месец юни 2025 г.
A6: Показатели | B6: Осигурени лица за фонд "Безработица" | D6: Регистрирани безработни лица * | F6: Регистрирани безработни лица с право на парично обезщетение за безработица (ПОБ)
B7: брой | C7: % от общия брой | D7: брой | E7: % от общия брой | F7: брой | G7: % от общия брой | H7: изменение спрямо VI.2024 г. | I7: изменение спрямо V.2025 г. | J7: % спрямо всички регистрирани лица
A8: Брой лица | B8: 2693465 | C8: 1 | D8: 144186 | E8: 1 | F8: 56470 | G8: 1 | H8: 0.0043039055 | I8: -0.011794764 | J8: 0.3916469
A9: в т. ч.:
A10: По пол
A11: Мъже | B11: 1304510 | C11: 0.4843241 | D11: 64475 | E11: 0.44716547 | F11: 24071 | G11: 0.42626173 | H11: -0.018431676 | I11: -0.029395161 | J11: 0.3733385
A12: Жени | B12: 1334541 | C12: 0.49547367 | D12: 79711 | E12: 0.55283453 | F12: 32185 | G12: 0.56994865 | H12: 0.020191454 | I12: 0.001992466 | J12: 0.40377112
A13: Граждани на други държави | B13: 54414 | C13: 0.02020223 | F13: 214 | G13: 0.0037896228 | H13: 0.36305732 | I13: -0.040358744
A14: По възраст
A15: до 24 г. вкл. | B15: 198869 | C15: 0.073833891 | D15: 8451 | E15: 0.058611793 | F15: 2179 | G15: 0.03858686 | H15: 0.46931895 | I15: 0.066046967 | J15: 0.25783931
A16: от 25 до 29 г. | B16: 139561 | C16: 0.05181467 | D16: 8777 | E16: 0.060872762 | F16: 2762 | G16: 0.048910926 | H16: -0.15741306 | I16: 0.012092342 | J16: 0.31468611
A17: от 30 до 34 г. | B17: 214213 | C17: 0.079530642 | D17: 12737 | E17: 0.088337287 | F17: 4858 | G17: 0.086027979 | H17: -0.044453186 | I17: 0.0014430014 | J17: 0.38140849
A18: от 35 до 39 г. | B18: 296021 | C18: 0.10990341 | D18: 16394 | E18: 0.11370036 | F18: 7106 | G18: 0.12583673 | H18: -0.024838754 | I18: -0.0012649332 | J18: 0.43345126
A19: от 40 до 44 г. | B19: 316488 | C19: 0.11750218 | D19: 17205 | E19: 0.11932504 | F19: 7689 | G19: 0.13616079 | H19: 0.0019546521 | I19: -0.010679362 | J19: 0.44690497
A20: от 45 до 49 г. | B20: 350017 | C20: 0.12995045 | D20: 18728 | E20: 0.12988778 | F20: 8122 | G20: 0.14382858 | H20: -0.0085449219 | I20: -0.011801922 | J20: 0.43368219
A21: от 50 до 54 г. | B21: 351190 | C21: 0.13038595 | D21: 19774 | E21: 0.1371423 | F21: 8171 | G21: 0.1446963 | H21: 0.0018391368 | I21: -0.027146089 | J21: 0.41321938
A22: над 54 г. | B22: 772692 | C22: 0.28687657 | D22: 42120 | E22: 0.29212267 | F22: 15369 | G22: 0.27216221 | H22: 0.030300999 | I22: -0.026785714 | J22: 0.36488604
A23: Граждани на други държави | B23: 54414 | C23: 0.02020223 | F23: 214 | G23: 0.0037896228 | H23: 0.36305732 | I23: -0.040358744
A24: По образование
A25: Висше | D25: 20657 | E25: 0.14326634
A26: Средно специално и професионално | D26: 11747 | E26: 0.081471155
A27: Средно общо | D27: 47900 | E27: 0.33220978
A28: Основно и по-ниско | D28: 63882 | E28: 0.44305272
A29: * Източник на данните за регистрираните безработни лица е Агенцията по заетостта

Sheet пол
A1: към съдържание
A3: 2. Регистрирани безработни лица с право на ПОБ, разпределени по пол и ТП на НОИ, през месец юни 2025 г.
B6: ТП на НОИ | C6: Регистрирани безработни лица с право на ПОБ | H6: Регистрирани безработни лица * | I6: Равнище на безработица (%)*
A7: № | C7: Общ брой | D7: в т. ч. | F7: изменение на общия брой спрямо
D8: мъже | E8: жени | F8: VI.2024 г. | G8: V.2025 г.
A9: I. Български граждани | C9: 56256 | D9: 24071 | E9: 32185 | F9: 0.0032993883 | G9: -0.011682859 | H9: 144186 | I9: 5.08523
A10: 1 | B10: Благоевград | C10: 4001 | D10: 1543 | E10: 2458 | F10: -0.12412434 | G10: 0.0070475711 | H10: 10792 | I10: 8.7502939
A11: 2 | B11: Бургас | C11: 2896 | D11: 1142 | E11: 1754 | F11: 0.071402146 | G11: -0.044854881 | H11: 5316 | I11: 3.2650755
A12: 3 | B12: Варна | C12: 3373 | D12: 1408 | E12: 1965 | F12: 0.062696912 | G12: -0.027112778 | H12: 6103 | I12: 3.0826969
A13: 4 | B13: Велико Търново | C13: 1817 | D13: 805 | E13: 1012 | F13: -0.030933333 | G13: -0.0081877729 | H13: 4252 | I13: 4.9512675
A14: 5 | B14: Видин | C14: 669 | D14: 299 | E14: 370 | F14: 0.21857923 | G14: -0.045649073 | H14: 4068 | I14: 14.852678
A15: 6 | B15: Враца | C15: 1547 | D15: 608 | E15: 939 | F15: 0.16578749 | G15: -0.01964512 | H15: 6201 | I15: 10.108403
A16: 7 | B16: Габрово | C16: 1039 | D16: 493 | E16: 546 | F16: 0.06345957 | G16: -0.011417697 | H16: 1688 | I16: 4.020675
A17: 8 | B17: Кърджали | C17: 1187 | D17: 453 | E17: 734 | F17: -0.032599837 | G17: -0.011656953 | H17: 4320 | I17: 9.1295251
A18: 9 | B18: Кюстендил | C18: 1081 | D18: 390 | E18: 691 | F18: -0.0425155 | G18: -0.041666667 | H18: 3289 | I18: 7.7079916
A19: 10 | B19: Ловеч | C19: 1136 | D19: 560 | E19: 576 | F19: -0.0017574692 | G19: 0.010676157 | H19: 3521 | I19: 8.2466742
A20: 11 | B20: Монтана | C20: 991 | D20: 446 | E20: 545 | F20: -0.043436293 | G20: -0.014910537 | H20: 5356 | I20: 11.298625
A21: 12 | B21: Пазарджик | C21: 2124 | D21: 947 | E21: 1177 | F21: 0.0042553191 | G21: -0.035422343 | H21: 7233 | I21: 7.5122296
... A37: 28 | B37: Ямбол | C37: 747 | D37: 310 | E37: 437 | F37: -0.094545455 | G37: -0.044757033 | H37: 2190 | I37: 5.042249
A38: II.Граждани на други държави | C38: 214 | F38: 0.36305732 | G38: -0.040358744
A39: Общо за страната ( I + II) | C39: 56470 | D39: 24071 | E39: 32185 | F39: 0.0043039055 | G39: -0.011794764 | H39: 144186 | I39: 5.08523
B40: * Източник на данните за регистрираните безработни лица и равнището на безработица е Агенцията по заетостта.

Sheet графика по пол
C1: към съдържание

Sheet група възраст
A1: към съдържание
A3: 3. Регистрирани безработни лица с право на обезщетение, разпределени по групи възраст и ТП на НОИ, през месец юни 2025 г.
A6: № | B6: ТП на НОИ | C6: Общ брой | D6: групи възраст
D7: до 24 г. вкл. | E7: от 25 г. до 29 г. вкл. | F7: от 30 г. до 34 г. вкл. | G7: от 35 г. до 39 г. вкл. | H7: от 40 г. до 44 г. вкл. | I7: от 45 г. до 49 г. вкл. | J7: от 50 г. до 54 г. вкл. | K7: над 54 г.
A8: I. Български граждани | C8: 56256 | D8: 2179 | E8: 2762 | F8: 4858 | G8: 7106 | H8: 7689 | I8: 8122 | J8: 8171 | K8: 15369
A9: 1 | B9: Благоевград | C9: 4001 | D9: 115 | E9: 172 | F9: 357 | G9: 512 | H9: 584 | I9: 557 | J9: 543 | K9: 1161
A10: 2 | B10: Бургас | C10: 2896 | D10: 101 | E10: 163 | F10: 264 | G10: 380 | H10: 406 | I10: 415 | J10: 432 | K10: 735
A11: 3 | B11: Варна | C11: 3373 | D11: 149 | E11: 165 | F11: 333 | G11: 438 | H11: 524 | I11: 566 | J11: 464 | K11: 734
A12: 4 | B12: Велико Търново | C12: 1817 | D12: 81 | E12: 95 | F12: 158 | G12: 198 | H12: 234 | I12: 242 | J12: 263 | K12: 546
A13: 5 | B13: Видин | C13: 669 | D13: 14 | E13: 28 | F13: 52 | G13: 67 | H13: 73 | I13: 85 | J13: 94 | K13: 256
A14: 6 | B14: Враца | C14: 1547 | D14: 54 | E14: 77 | F14: 149 | G14: 180 | H14: 185 | I14: 222 | J14: 242 | K14: 438
A15: 7 | B15: Габрово | C15: 1039 | D15: 32 | E15: 46 | F15: 73 | G15: 126 | H15: 106 | I15: 150 | J15: 178 | K15: 328
A16: 8 | B16: Кърджали | C16: 1187 | D16: 35 | E16: 52 | F16: 90 | G16: 126 | H16: 157 | I16: 160 | J16: 184 | K16: 383
A17: 9 | B17: Кюстендил | C17: 1081 | D17: 39 | E17: 45 | F17: 66 | G17: 124 | H17: 137 | I17: 145 | J17: 173 | K17: 352
A18: 10 | B18: Ловеч | C18: 1136 | D18: 43 | E18: 65 | F18: 102 | G18: 126 | H18: 115 | I18: 131 | J18: 180 | K18: 374
A19: 11 | B19: Монтана | C19: 991 | D19: 26 | E19: 36 | F19: 69 | G19: 113 | H19: 99 | I19: 118 | J19: 175 | K19: 355
A20: 12 | B20: Пазарджик | C20: 2124 | D20: 80 | E20: 111 | F20: 178 | G20: 259 | H20: 268 | I20: 274 | J20: 308 | K20: 646
... A36: 28 | B36: Ямбол | C36: 747 | D36: 23 | E36: 18 | F36: 63 | G36: 93 | H36: 83 | I36: 99 | J36: 111 | K36: 257
A37: II. Граждани на други държави | C37: 214
A38: Общо за страната ( I + II) | C38: 56470 | D38: 2179 | E38: 2762 | F38: 4858 | G38: 7106 | H38: 7689 | I38: 8122 | J38: 8171 | K38: 15369
D43: Регистрирани безработни лица
D44: Регистрирани безработни лица с право на обезщетение
E48: unempl with contributions | F48: reg.unempl
D50: до 24г. | E50: =D38 -> 2179 | F50: =резюме!D15 -> 8451
D51: 25-29г. | E51: =E38 -> 2762 | F51: =резюме!D16 -> 8777
D52: 30-34г. | E52: =F38 -> 4858 | F52: =резюме!D17 -> 12737
D53: 35-39г. | E53: =G38 -> 7106 | F53: =резюме!D18 -> 16394
D54: 40-44г. | E54: =H38 -> 7689 | F54: =резюме!D19 -> 17205
D55: 45-49г. | E55: =I38 -> 8122 | F55: =резюме!D20 -> 18728
D56: 50-54г. | E56: =J38 -> 8171 | F56: =резюме!D21 -> 19774
D57: над 54г. | E57: =K38 -> 15369 | F57: =резюме!D22 -> 42120

Sheet възраст-пари
A1: към съдържание
A3: 4. Регистрирани безработни лица с право на обезщетение, разпределени по групи възраст и средни размери на паричните обезщетения, през месец юни 2025 г.
A6: Възраст | B6: Общо | D6: в т. ч.
D7: мъже | F7: жени
B8: Брой | C8: Средно парично обезщетение | D8: Брой | E8: Средно парично обезщетение | F8: Брой | G8: Средно парично обезщетение
A9: I. Български граждани | B9: 56256 | C9: 818.75451 | D9: 24071 | E9: 918.51586 | F9: 32185 | G9: 744.14351
A10: до 24 г. вкл. | B10: 2179 | C10: 617.39846 | D10: 1023 | E10: 683.0483 | F10: 1156 | G10: 559.30176
A11: от 25 г. до 29 г. вкл. | B11: 2762 | C11: 767.84151 | D11: 1142 | E11: 932.94468 | F11: 1620 | G11: 651.45396
A12: от 30 г. до 34 г. вкл. | B12: 4858 | C12: 825.23598 | D12: 2006 | E12: 1013.1698 | F12: 2852 | G12: 693.0497
A13: от 35 г. до 39 г. вкл. | B13: 7106 | C13: 868.99368 | D13: 2947 | E13: 1023.8778 | F13: 4159 | G13: 759.24528
A14: от 40 г. до 44 г. вкл. | B14: 7689 | C14: 901.60243 | D14: 3256 | E14: 1016.1666 | F14: 4433 | G14: 817.45605
A15: от 45 г. до 49 г. вкл. | B15: 8122 | C15: 880.67945 | D15: 3489 | E15: 962.005 | F15: 4633 | G15: 819.43514
A16: от 50 г. до 54 г. вкл. | B16: 8171 | C16: 839.26637 | D16: 3401 | E16: 927.49665 | F16: 4770 | G16: 776.35838
A17: над 54 г. | B17: 15369 | C17: 746.09629 | D17: 6807 | E17: 804.48618 | F17: 8562 | G17: 699.67489
A18: II. Граждани на други държави | B18: 214 | C18: 1192.7421
A19: Общо ( I + II) | B19: 56470 | C19: 820.17179 | D19: 24071 | E19: 918.51586 | F19: 32185 | G19: 744.14351

Sheet размер ПОБ
A1: към съдържание
A3: 5. Регистрирани безработни лица с право на обезщетение, разпределени по дневен размер на ПОБ и по пол, през месец юни 2025 г.
A6: дневен размер на ПОБ | B6: общо | C6: % от общия брой | D6: Български граждани | E6: в т.ч. | I6: Граждани на други държави | J6: % от общия брой
E7: мъже | F7: % от общия брой | G7: жени | H7: % от общия брой
A8: до минималния дневен размер вкл. | B8: 15416 | C8: 0.27299451 | D8: 15348 | E8: 6125 | F8: 0.25445557 | G8: 9223 | H8: 0.28656206 | I8: 68 | J8: 0.31775701
A9: - по чл. 54б, ал. 1 | B9: 936 | C9: 0.016575173 | D9: 934 | E9: 296 | F9: 0.012296955 | G9: 638 | H9: 0.019822899 | I9: 2 | J9: 0.0093457944
A10: - по чл. 54б, ал. 3 | B10: 12782 | C10: 0.22635027 | D10: 12718 | E10: 5182 | F10: 0.2152798 | G10: 7536 | H10: 0.23414634 | I10: 64 | J10: 0.29906542
A11: - по чл. 54б, ал. 4 | B11: 1698 | C11: 0.030069063 | D11: 1696 | E11: 647 | F11: 0.026878817 | G11: 1049 | H11: 0.032592823 | I11: 2 | J11: 0.0093457944
A12: от 18.01 лв. до 25 лв. | B12: 5103 | C12: 0.090366566 | D12: 5094 | E12: 1566 | F12: 0.065057538 | G12: 3528 | H12: 0.10961628 | I12: 9 | J12: 0.042056075
A13: от 25.01 лв. до 35 лв. | B13: 14075 | C13: 0.24924739 | D13: 14062 | E13: 5279 | F13: 0.21930954 | G13: 8783 | H13: 0.2728911 | I13: 13 | J13: 0.060747664
A14: от 35.01 лв. до 45 лв. | B14: 5612 | C14: 0.099380202 | D14: 5604 | E14: 2143 | F14: 0.089028291 | G14: 3461 | H14: 0.10753457 | I14: 8 | J14: 0.037383178
A15: от 45.01 лв. до 55 лв. | B15: 3791 | C15: 0.067132991 | D15: 3782 | E15: 1773 | F15: 0.073657098 | G15: 2009 | H15: 0.062420382 | I15: 9 | J15: 0.042056075
A16: от 55.01 лв. до 65 лв. | B16: 3126 | C16: 0.055356827 | D16: 3113 | E16: 1615 | F16: 0.067093183 | G16: 1498 | H16: 0.046543421 | I16: 13 | J16: 0.060747664
A17: от 65.01 лв. до 75 лв. | B17: 2510 | C17: 0.04444838 | D17: 2502 | E17: 1402 | F17: 0.05824436 | G17: 1100 | H17: 0.034177412 | I17: 8 | J17: 0.037383178
A18: от 75.01 лв. до 85 лв. | B18: 1823 | C18: 0.032282628 | D18: 1808 | E18: 1083 | F18: 0.044991899 | G18: 725 | H18: 0.022526021 | I18: 15 | J18: 0.070093458
A19: от 85.01 лв. до 95 лв. | B19: 1775 | C19: 0.031432619 | D19: 1758 | E19: 1085 | F19: 0.045074986 | G19: 673 | H19: 0.020910362 | I19: 17 | J19: 0.079439252
... A22: общо | B22: 56470 | C22: 1 | D22: 56256 | E22: 24071 | F22: 1 | G22: 32185 | H22: 1 | I22: 214 | J22: 1

Sheet средно ПОБ
A1: към съдържание
A3: 6. Средни размери на паричните обезщетения за безработица, разпределени по ТП на НОИ и пол, през месец юни 2025 г.
A6: № | B6: ТП на НОИ | C6: Средно парично обезщетение за безработица-общо* | D6: Български граждани в т.ч. | F6: Граждани на други държави
D7: мъже | E7: жени
A8: 1 | B8: Благоевград | C8: 717.76475 | D8: 829.69585 | E8: 647.56823 | F8: 693.96
A9: 2 | B9: Бургас | C9: 753.7375 | D9: 842.06708 | E9: 691.71665 | F9: 1362.3669
A10: 3 | B10: Варна | C10: 869.27741 | D10: 1007.739 | E10: 769.26099 | F10: 962.12118
A11: 4 | B11: Велико Търново | C11: 733.99184 | D11: 819.56374 | E11: 667.50513 | F11: 413.826
A12: 5 | B12: Видин | C12: 661.66869 | D12: 721.26221 | E12: 613.32941 | F12: 695.205
A13: 6 | B13: Враца | C13: 732.45126 | D13: 801.03533 | E13: 687.13029 | F13: 1161.09
A14: 7 | B14: Габрово | C14: 835.23424 | D14: 937.44554 | E14: 740.95385 | F14: 990.51
A15: 8 | B15: Кърджали | C15: 679.35318 | D15: 787.32013 | E15: 610.70375 | F15: 2159.01
A16: 9 | B16: Кюстендил | C16: 675.60994 | D16: 756.62838 | E16: 630.74457 | F16: 378
A17: 10 | B17: Ловеч | C17: 762.77808 | D17: 867.59438 | E17: 662.77276 | F17: 398.09
A18: 11 | B18: Монтана | C18: 696.09517 | D18: 760.05074 | E18: 644.07694 | F18: 521.85
A19: 12 | B19: Пазарджик | C19: 706.96914 | D19: 800.75838 | E19: 632.08876 | F19: 535.92
... A22: 15 | B22: Пловдив | C22: 822.88483 | D22: 934.11977 | E22: 732.00027 | F22: 958.2375
A23: 16 | B23: Разград | C23: 686.75442 | D23: 789.0808 | E23: 606.10907
A24: 17 | B24: Русе | C24: 766.53625 | D24: 863.78317 | E24: 695.49535 | F24: 378
A25: 18 | B25: Силистра | C25: 692.32205 | D25: 776.52009 | E25: 603.13955 | F25: 1771.2975
A26: 19 | B26: Сливен | C26: 698.76558 | D26: 744.76625 | E26: 669.79666 | F26: 998.34
A27: 20 | B27: Смолян | C27: 708.0403 | D27: 789.11887 | E27: 648.63443 | F27: 589.47
A28: 21 | B28: София-град | C28: 1133.2564 | D28: 1217.1433 | E28: 1058.8239 | F28: 1447.5236
A29: 22 | B29: София | C29: 851.87242 | D29: 963.36566 | E29: 768.71288 | F29: 2121.105
A30: 23 | B30: Стара Загора | C30: 812.59408 | D30: 929.08766 | E30: 721.51926 | F30: 1400.28
A31: 24 | B31: Добрич | C31: 800.65038 | D31: 959.45266 | E31: 695.02613
A32: 25 | B32: Търговище | C32: 729.60683 | D32: 766.08702 | E32: 702.32269
A33: 26 | B33: Хасково | C33: 663.54461 | D33: 731.70021 | E33: 613.61505
A34: 27 | B34: Шумен | C34: 719.15832 | D34: 805.50015 | E34: 649.54825 | F34: 378
A35: 28 | B35: Ямбол | C35: 736.47925 | D35: 863.35742 | E35: 647.51698 | F35: 508.62
A36: Общо за страната | C36: 820.17179 | D36: 918.51586 | E36: 744.14351 | F36: 1192.7421
A37: * включително паричните обезщетения за безработица по европейски регламенти

Sheet EU
A1: към съдържание
A3: 7. Брой безработни лица и средни размери на паричните обезщетения за безработица по европейски регламенти, разпределени по ТП на НОИ и пол, през месец юни 2025 г.
A6: № | B6: ТП на НОИ | C6: ОБЩО | E6: в т. ч.
E7: мъже | G7: жени
C8: Брой | D8: Средно парично обезщетение | E8: Брой | F8: Средно парично обезщетение | G8: Брой | H8: Средно парично обезщетение
A9: I. Български граждани | C9: 1747 | D9: 1274.2602 | E9: 784 | F9: 1444.3457 | G9: 963 | H9: 1135.7897
A10: 1 | B10: Благоевград | C10: 555 | D10: 951.31249 | E10: 174 | F10: 1102.2586 | G10: 381 | H10: 882.37646
A11: 2 | B11: Бургас | C11: 97 | D11: 1539.0489 | E11: 49 | F11: 1607.0614 | G11: 48 | H11: 1469.6194
A12: 3 | B12: Варна | C12: 77 | D12: 1615.0555 | E12: 47 | F12: 1672.2568 | G12: 30 | H12: 1525.44
A13: 4 | B13: Велико Търново | C13: 33 | D13: 1412.6191 | E13: 14 | F13: 1809.465 | G13: 19 | H13: 1120.2063
A14: 5 | B14: Видин | C14: 7 | D14: 1477.53 | E14: 6 | F14: 1517.355 | G14: 1 | H14: 1238.58
A15: 6 | B15: Враца | C15: 16 | D15: 1370.3812 | E15: 9 | F15: 1438.92 | G15: 7 | H15: 1282.26
A16: 7 | B16: Габрово | C16: 37 | D16: 1615.1441 | E16: 20 | F16: 1744.0815 | G16: 17 | H16: 1463.4529
A17: 8 | B17: Кърджали | C17: 122 | D17: 1124.6378 | E17: 44 | F17: 1367.3243 | G17: 78 | H17: 987.73769
A18: 9 | B18: Кюстендил | C18: 13 | D18: 1007.9192 | E18: 4 | F18: 795.585 | G18: 9 | H18: 1102.29
A19: 10 | B19: Ловеч | C19: 38 | D19: 1462.8655 | E19: 22 | F19: 1481.6645 | G19: 16 | H19: 1437.0169
A20: 11 | B20: Монтана | C20: 13 | D20: 1796.8246 | E20: 6 | F20: 1935.255 | G20: 7 | H20: 1678.17
A21: 12 | B21: Пазарджик | C21: 76 | D21: 1201.4045 | E21: 38 | F21: 1303.3263 | G21: 38 | H21: 1099.4826
... A37: 28 | B37: Ямбол | C37: 11 | D37: 1417.9964 | E37: 8 | F37: 1440.4425 | G37: 3 | H37: 1358.14
A38: II. Граждани на други държави
A39: Общо за страната ( I + II) | C39: 1747 | D39: 1274.2602 | E39: 784 | F39: 1444.3457 | G39: 963 | H39: 1135.7897

Sheet осигурителен стаж
A1: към съдържание
A3: 8. Брой регистрирани безработни лица с право на ПОБ, разпределени по продължителност на осигурителния им стаж и ТП на НОИ, през месец юни 2025 г.
A6: № | B6: ТП на НОИ | C6: Общ брой | D6: Осигурителен стаж
D7: до 3 години | E7: от 3 до 7 години | F7: от 7 до 11 години | G7: от 11 до 15 години | H7: над 15 години
A8: 1 | B8: Благоевград | C8: 4008 | D8: 205 | E8: 574 | F8: 726 | G8: 708 | H8: 1795
A9: 2 | B9: Бургас | C9: 2909 | D9: 177 | E9: 431 | F9: 553 | G9: 562 | H9: 1186
A10: 3 | B10: Варна | C10: 3390 | D10: 194 | E10: 516 | F10: 608 | G10: 683 | H10: 1389
A11: 4 | B11: Велико Търново | C11: 1822 | D11: 117 | E11: 306 | F11: 294 | G11: 340 | H11: 765
A12: 5 | B12: Видин | C12: 671 | D12: 50 | E12: 139 | F12: 127 | G12: 125 | H12: 230
A13: 6 | B13: Враца | C13: 1549 | D13: 130 | E13: 271 | F13: 310 | G13: 289 | H13: 549
A14: 7 | B14: Габрово | C14: 1046 | D14: 45 | E14: 107 | F14: 155 | G14: 174 | H14: 565
A15: 8 | B15: Кърджали | C15: 1188 | D15: 102 | E15: 249 | F15: 211 | G15: 212 | H15: 414
A16: 9 | B16: Кюстендил | C16: 1083 | D16: 65 | E16: 153 | F16: 163 | G16: 184 | H16: 518
A17: 10 | B17: Ловеч | C17: 1139 | D17: 62 | E17: 199 | F17: 186 | G17: 186 | H17: 506
A18: 11 | B18: Монтана | C18: 992 | D18: 78 | E18: 195 | F18: 159 | G18: 180 | H18: 380
A19: 12 | B19: Пазарджик | C19: 2128 | D19: 137 | E19: 323 | F19: 444 | G19: 391 | H19: 833
... A35: 28 | B35: Ямбол | C35: 749 | D35: 45 | E35: 101 | F35: 133 | G35: 138 | H35: 332
A36: Общо за страната | C36: 56470 | D36: 3501 | E36: 8459 | F36: 9754 | G36: 10328 | H36: 24428
A37: * От 1 януари 2018 г. се променят изискванията за продължителност на осигурителния стаж с осигуряване за безработица за времето след 31 декември 2001 г. (чл. 54в, ал. 1).

Sheet икономически дейности
A1: 12. Регистрирани безработни лица с право на обезщетение, разпределени по икономически дейности, през месец януари 2017г.
A3: код | B3: дейност | C3: състояние | D3: новоотпуснати | E3: Новоотпуснати спрямо състоянието
A4: 1 | B4: Селско и ловно стопанство и свързани с тях услуги | C4: 5167 | E4: =D4/C4 -> 0
A5: 2 | B5: Горско стопанство дърводобив и свързани с тях услуги | C5: 867 | E5: =D5/C5 -> 0
A6: 5 | B6: Рибно стопанство и свързани с него услуги | C6: 138 | E6: =D6/C6 -> 0
A7: 10 | B7: Добив на въглища и торф | C7: 638 | E7: =D7/C7 -> 0
A8: 11 | B8: Добив на суров нефт и природен газ услуги свързани с добива на нефт и газ без проучвателните работи | C8: 149 | E8: =D8/C8 -> 0
A9: 12 | B9: Добив на уранови и ториеви руди и техните концентрати | C9: 147 | E9: =D9/C9 -> 0
A10: 13 | B10: Добив на метални руди | C10: 200 | E10: =D10/C10 -> 0
A11: 14 | B11: Добив на неметални материали и суровини | C11: 746 | E11: =D11/C11 -> 0
A12: 15 | B12: Производство на хранителни продукти и напитки | C12: 1740 | E12: =D12/C12 -> 0
A13: 16 | B13: Производство на тютюневи изделия | C13: 602 | E13: =D13/C13 -> 0
A14: 17 | B14: Производство на текстил и изделия от текстил без облекло | C14: 672 | E14: =D14/C14 -> 0
A15: 18 | B15: Производство на облекло вкл кожено обработка на кожухарски кожи | C15: 1301 | E15: =D15/C15 -> 0
... A65: 99 | B65: Екстериториални организации и служби | C65: 6 | E65: =D65/C65 -> 0
B66: Науказани | C66: 32913 | D66: 15589
A67: Общо за страната | C67: =SUM(C4:C66) -> 93150 | D67: =SUM(D4:D66) -> 15589 | E67: =D67/C67 -> 0.16735373

Sheet новорегистрирани ПОБ
A1: към съдържание
A3: 9. Новорегистрирани безработни лица с право на обезщетение, разпределени по пол и ТП на НОИ, през месец юни 2025 г.
A6: № | B6: ТП на НОИ | C6: Новорегистрирани безработни лица с право на ПОБ
C7: Общ брой | D7: спрямо състоянието | E7: в това число
E8: мъже | F8: спрямо състоянието | G8: жени | H8: спрямо състоянието
A9: I. Български граждани | C9: 8793 | D9: 0.155711 | E9: 3585 | F9: 0.1489344 | G9: 5208 | H9: 0.16181451
A10: 1 | B10: Благоевград | C10: 594 | D10: 0.14846288 | E10: 234 | F10: 0.15165262 | G10: 360 | H10: 0.14646054
A11: 2 | B11: Бургас | C11: 476 | D11: 0.16436464 | E11: 192 | F11: 0.16812609 | G11: 284 | H11: 0.16191562
A12: 3 | B12: Варна | C12: 546 | D12: 0.1618737 | E12: 192 | F12: 0.13636364 | G12: 354 | H12: 0.18015267
A13: 4 | B13: Велико Търново | C13: 273 | D13: 0.15024766 | E13: 124 | F13: 0.15403727 | G13: 149 | H13: 0.1472332
A14: 5 | B14: Видин | C14: 104 | D14: 0.1554559 | E14: 46 | F14: 0.15384615 | G14: 58 | H14: 0.15675676
A15: 6 | B15: Враца | C15: 219 | D15: 0.14156432 | E15: 91 | F15: 0.14967105 | G15: 128 | H15: 0.13631523
A16: 7 | B16: Габрово | C16: 136 | D16: 0.13089509 | E16: 57 | F16: 0.11561866 | G16: 79 | H16: 0.14468864
A17: 8 | B17: Кърджали | C17: 187 | D17: 0.15754002 | E17: 56 | F17: 0.12362031 | G17: 131 | H17: 0.17847411
A18: 9 | B18: Кюстендил | C18: 148 | D18: 0.13691027 | E18: 61 | F18: 0.15641026 | G18: 87 | H18: 0.12590449
A19: 10 | B19: Ловеч | C19: 191 | D19: 0.1681338 | E19: 79 | F19: 0.14107143 | G19: 112 | H19: 0.19444444
A20: 11 | B20: Монтана | C20: 140 | D20: 0.14127144 | E20: 59 | F20: 0.132287 | G20: 81 | H20: 0.14862385
A21: 12 | B21: Пазарджик | C21: 290 | D21: 0.13653484 | E21: 127 | F21: 0.13410771 | G21: 163 | H21: 0.13848768
... A37: 28 | B37: Ямбол | C37: 115 | D37: 0.15394913 | E37: 50 | F37: 0.16129032 | G37: 65 | H37: 0.14874142
A38: II. Граждани на други държави | C38: 39 | D38: 0.18224299
A39: Общо за страната ( I + II) | C39: 8832 | D39: 0.15640163 | E39: 3585 | F39: 0.1489344 | G39: 5208 | H39: 0.16181451

Sheet прекратени ПОБ
A1: към съдържание
A3: 10. Брой регистрирани безработни лица с право на ПОБ с край на обезщетението през месец юни 2025 г., разпределени по пол и ТП на НОИ.
A6: № | B6: ТП на НОИ | C6: Общ брой | D6: в това число
D7: мъже | E7: жени
A8: I. Български граждани | C8: 10823 | D8: 4794 | E8: 6029
A9: 1 | B9: Благоевград | C9: 658 | D9: 256 | E9: 402
A10: 2 | B10: Бургас | C10: 709 | D10: 256 | E10: 453
A11: 3 | B11: Варна | C11: 708 | D11: 287 | E11: 421
A12: 4 | B12: Велико Търново | C12: 330 | D12: 153 | E12: 177
A13: 5 | B13: Видин | C13: 134 | D13: 69 | E13: 65
A14: 6 | B14: Враца | C14: 345 | D14: 153 | E14: 192
A15: 7 | B15: Габрово | C15: 176 | D15: 84 | E15: 92
A16: 8 | B16: Кърджали | C16: 257 | D16: 104 | E16: 153
A17: 9 | B17: Кюстендил | C17: 213 | D17: 68 | E17: 145
A18: 10 | B18: Ловеч | C18: 216 | D18: 105 | E18: 111
A19: 11 | B19: Монтана | C19: 180 | D19: 80 | E19: 100
A20: 12 | B20: Пазарджик | C20: 403 | D20: 177 | E20: 226
... A36: 28 | B36: Ямбол | C36: 170 | D36: 74 | E36: 96
A37: II.Граждани на други държави | C37: 50
A38: Общо за страната ( I + II) | C38: 10873 | D38: 4794 | E38: 6029

Sheet Графика Динамика ПОБ
A1: към съдържание
P17: =2025-1968 -> 57
